BEGIN:VCALENDAR
VERSION:2.0
PRODID:-//Rayac - ECPv6.11.0.1//NONSGML v1.0//EN
CALSCALE:GREGORIAN
METHOD:PUBLISH
X-WR-CALNAME:Rayac
X-ORIGINAL-URL:https://rayac.com
X-WR-CALDESC:Events for Rayac
REFRESH-INTERVAL;VALUE=DURATION:PT1H
X-Robots-Tag:noindex
X-PUBLISHED-TTL:PT1H
BEGIN:VTIMEZONE
TZID:America/Chicago
BEGIN:DAYLIGHT
TZOFFSETFROM:-0600
TZOFFSETTO:-0500
TZNAME:CDT
DTSTART:20260308T080000
END:DAYLIGHT
BEGIN:STANDARD
TZOFFSETFROM:-0500
TZOFFSETTO:-0600
TZNAME:CST
DTSTART:20261101T070000
END:STANDARD
END:VTIMEZONE
BEGIN:VEVENT
DTSTART;TZID=America/Chicago:20260210T083000
DTEND;TZID=America/Chicago:20260210T120000
DTSTAMP:20260420T053550
CREATED:20260209T191848Z
LAST-MODIFIED:20260209T191848Z
UID:28482-1770712200-1770724800@rayac.com
SUMMARY:CE:  Financing Nuts & Bolts
DESCRIPTION:Click here for more information.  
URL:https://rayac.com/event/ce-financing-nuts-bolts/
LOCATION:Zoom
CATEGORIES:Education
END:VEVENT
BEGIN:VEVENT
DTSTART;TZID=America/Chicago:20260210T130000
DTEND;TZID=America/Chicago:20260210T163000
DTSTAMP:20260420T053550
CREATED:20260209T192215Z
LAST-MODIFIED:20260209T192215Z
UID:28486-1770728400-1770741000@rayac.com
SUMMARY:COE:  Multiple Offers
DESCRIPTION:Click here for more information
URL:https://rayac.com/event/coe-multiple-offers/
LOCATION:Zoom
CATEGORIES:Education
END:VEVENT
END:VCALENDAR