BEGIN:VCALENDAR
VERSION:2.0
PRODID:-//Rayac - ECPv6.11.0.1//NONSGML v1.0//EN
CALSCALE:GREGORIAN
METHOD:PUBLISH
X-WR-CALNAME:Rayac
X-ORIGINAL-URL:https://rayac.com
X-WR-CALDESC:Events for Rayac
REFRESH-INTERVAL;VALUE=DURATION:PT1H
X-Robots-Tag:noindex
X-PUBLISHED-TTL:PT1H
BEGIN:VTIMEZONE
TZID:America/Chicago
BEGIN:DAYLIGHT
TZOFFSETFROM:-0600
TZOFFSETTO:-0500
TZNAME:CDT
DTSTART:20250309T080000
END:DAYLIGHT
BEGIN:STANDARD
TZOFFSETFROM:-0500
TZOFFSETTO:-0600
TZNAME:CST
DTSTART:20251102T070000
END:STANDARD
END:VTIMEZONE
BEGIN:VEVENT
DTSTART;TZID=America/Chicago:20251201T180000
DTEND;TZID=America/Chicago:20251201T213000
DTSTAMP:20260420T053615
CREATED:20250729T150008Z
LAST-MODIFIED:20250729T150008Z
UID:27955-1764612000-1764624600@rayac.com
SUMMARY:Pre-Licensing Real Estate Practice
DESCRIPTION:REAL ESTATE Practice (45 hours): \nConsecutive Mondays and Wednesdays from 6:00 PM – 9:30 PM & Saturdays from 9:00 AM – 3:00 PM \nDecember  1\,3\, 6\, 8\, 10\, 13\, 15\, 17\, 20\, 22\, 23 \nTUITION:\nReal Estate Fundamentals $340.00. \nTEXTBOOK AND OTHER STUDENT SUPPLIES:\nModern Real Estate Practice in Pennsylvania\, 14th Edition: $40 plus tax (non-refundable).\nEvery student must have a copy of the textbook\, which is used in both courses so it only needs to be purchased once. The textbook will be available to you on the first day of class. \n  \nREGISTRATION:\nSubmit full payment prior to the class start date to secure your seat by calling 717-843-7891 with credit card information or mail a check made payable to RAYAC to 901 Smile Way\, York. \nREGISTER NOW
URL:https://rayac.com/event/pre-licensing-real-estate-practice-56/
LOCATION:RAYAC\, 901 Smile Way\, York\, PA\, 17404\, United States
CATEGORIES:Education
END:VEVENT
BEGIN:VEVENT
DTSTART;TZID=America/Chicago:20251203T180000
DTEND;TZID=America/Chicago:20251203T213000
DTSTAMP:20260420T053615
CREATED:20250729T150042Z
LAST-MODIFIED:20250729T150042Z
UID:27957-1764784800-1764797400@rayac.com
SUMMARY:Pre-Licensing Real Estate Practice
DESCRIPTION:REAL ESTATE Practice (45 hours): \nConsecutive Mondays and Wednesdays from 6:00 PM – 9:30 PM & Saturdays from 9:00 AM – 3:00 PM \nDecember  1\,3\, 6\, 8\, 10\, 13\, 15\, 17\, 20\, 22\, 23 \nTUITION:\nReal Estate Fundamentals $340.00. \nTEXTBOOK AND OTHER STUDENT SUPPLIES:\nModern Real Estate Practice in Pennsylvania\, 14th Edition: $40 plus tax (non-refundable).\nEvery student must have a copy of the textbook\, which is used in both courses so it only needs to be purchased once. The textbook will be available to you on the first day of class. \n  \nREGISTRATION:\nSubmit full payment prior to the class start date to secure your seat by calling 717-843-7891 with credit card information or mail a check made payable to RAYAC to 901 Smile Way\, York. \nREGISTER NOW
URL:https://rayac.com/event/pre-licensing-real-estate-practice-57/
LOCATION:RAYAC\, 901 Smile Way\, York\, PA\, 17404\, United States
CATEGORIES:Education
END:VEVENT
BEGIN:VEVENT
DTSTART;TZID=America/Chicago:20251206T090000
DTEND;TZID=America/Chicago:20251206T150000
DTSTAMP:20260420T053615
CREATED:20250729T150123Z
LAST-MODIFIED:20250729T150123Z
UID:27959-1765011600-1765033200@rayac.com
SUMMARY:Pre-Licensing Real Estate Practice
DESCRIPTION:REAL ESTATE Practice (45 hours): \nConsecutive Mondays and Wednesdays from 6:00 PM – 9:30 PM & Saturdays from 9:00 AM – 3:00 PM \nDecember  1\,3\, 6\, 8\, 10\, 13\, 15\, 17\, 20\, 22\, 23 \nTUITION:\nReal Estate Fundamentals $340.00. \nTEXTBOOK AND OTHER STUDENT SUPPLIES:\nModern Real Estate Practice in Pennsylvania\, 14th Edition: $40 plus tax (non-refundable).\nEvery student must have a copy of the textbook\, which is used in both courses so it only needs to be purchased once. The textbook will be available to you on the first day of class. \n  \nREGISTRATION:\nSubmit full payment prior to the class start date to secure your seat by calling 717-843-7891 with credit card information or mail a check made payable to RAYAC to 901 Smile Way\, York. \nREGISTER NOW
URL:https://rayac.com/event/pre-licensing-real-estate-practice-58/
LOCATION:RAYAC\, 901 Smile Way\, York\, PA\, 17404\, United States
CATEGORIES:Education
END:VEVENT
BEGIN:VEVENT
DTSTART;TZID=America/Chicago:20251208T180000
DTEND;TZID=America/Chicago:20251208T213000
DTSTAMP:20260420T053615
CREATED:20250729T150203Z
LAST-MODIFIED:20250729T150203Z
UID:27961-1765216800-1765229400@rayac.com
SUMMARY:Pre-Licensing Real Estate Practice
DESCRIPTION:REAL ESTATE Practice (45 hours): \nConsecutive Mondays and Wednesdays from 6:00 PM – 9:30 PM & Saturdays from 9:00 AM – 3:00 PM \nDecember  1\,3\, 6\, 8\, 10\, 13\, 15\, 17\, 20\, 22\, 23 \nTUITION:\nReal Estate Fundamentals $340.00. \nTEXTBOOK AND OTHER STUDENT SUPPLIES:\nModern Real Estate Practice in Pennsylvania\, 14th Edition: $40 plus tax (non-refundable).\nEvery student must have a copy of the textbook\, which is used in both courses so it only needs to be purchased once. The textbook will be available to you on the first day of class. \n  \nREGISTRATION:\nSubmit full payment prior to the class start date to secure your seat by calling 717-843-7891 with credit card information or mail a check made payable to RAYAC to 901 Smile Way\, York. \nREGISTER NOW
URL:https://rayac.com/event/pre-licensing-real-estate-practice-59/
LOCATION:RAYAC\, 901 Smile Way\, York\, PA\, 17404\, United States
CATEGORIES:Education
END:VEVENT
BEGIN:VEVENT
DTSTART;TZID=America/Chicago:20251210T180000
DTEND;TZID=America/Chicago:20251210T213000
DTSTAMP:20260420T053615
CREATED:20250729T150244Z
LAST-MODIFIED:20250729T150244Z
UID:27963-1765389600-1765402200@rayac.com
SUMMARY:Pre-Licensing Real Estate Practice
DESCRIPTION:REAL ESTATE Practice (45 hours): \nConsecutive Mondays and Wednesdays from 6:00 PM – 9:30 PM & Saturdays from 9:00 AM – 3:00 PM \nDecember  1\,3\, 6\, 8\, 10\, 13\, 15\, 17\, 20\, 22\, 23 \nTUITION:\nReal Estate Fundamentals $340.00. \nTEXTBOOK AND OTHER STUDENT SUPPLIES:\nModern Real Estate Practice in Pennsylvania\, 14th Edition: $40 plus tax (non-refundable).\nEvery student must have a copy of the textbook\, which is used in both courses so it only needs to be purchased once. The textbook will be available to you on the first day of class. \n  \nREGISTRATION:\nSubmit full payment prior to the class start date to secure your seat by calling 717-843-7891 with credit card information or mail a check made payable to RAYAC to 901 Smile Way\, York. \nREGISTER NOW
URL:https://rayac.com/event/pre-licensing-real-estate-practice-60/
LOCATION:RAYAC\, 901 Smile Way\, York\, PA\, 17404\, United States
CATEGORIES:Education
END:VEVENT
BEGIN:VEVENT
DTSTART;TZID=America/Chicago:20251213T090000
DTEND;TZID=America/Chicago:20251213T150000
DTSTAMP:20260420T053615
CREATED:20250729T150710Z
LAST-MODIFIED:20250729T150710Z
UID:27965-1765616400-1765638000@rayac.com
SUMMARY:Pre-Licensing Real Estate Practice
DESCRIPTION:REAL ESTATE Practice (45 hours): \nConsecutive Mondays and Wednesdays from 6:00 PM – 9:30 PM & Saturdays from 9:00 AM – 3:00 PM \nDecember  1\,3\, 6\, 8\, 10\, 13\, 15\, 17\, 20\, 22\, 23 \nTUITION:\nReal Estate Fundamentals $340.00. \nTEXTBOOK AND OTHER STUDENT SUPPLIES:\nModern Real Estate Practice in Pennsylvania\, 14th Edition: $40 plus tax (non-refundable).\nEvery student must have a copy of the textbook\, which is used in both courses so it only needs to be purchased once. The textbook will be available to you on the first day of class. \n  \nREGISTRATION:\nSubmit full payment prior to the class start date to secure your seat by calling 717-843-7891 with credit card information or mail a check made payable to RAYAC to 901 Smile Way\, York. \nREGISTER NOW
URL:https://rayac.com/event/pre-licensing-real-estate-practice-61/
LOCATION:RAYAC\, 901 Smile Way\, York\, PA\, 17404\, United States
CATEGORIES:Education
END:VEVENT
BEGIN:VEVENT
DTSTART;TZID=America/Chicago:20251215T180000
DTEND;TZID=America/Chicago:20251215T213000
DTSTAMP:20260420T053615
CREATED:20250729T150757Z
LAST-MODIFIED:20250729T150757Z
UID:27967-1765821600-1765834200@rayac.com
SUMMARY:Pre-Licensing Real Estate Practice
DESCRIPTION:REAL ESTATE Practice (45 hours): \nConsecutive Mondays and Wednesdays from 6:00 PM – 9:30 PM & Saturdays from 9:00 AM – 3:00 PM \nDecember  1\,3\, 6\, 8\, 10\, 13\, 15\, 17\, 20\, 22\, 23 \nTUITION:\nReal Estate Fundamentals $340.00. \nTEXTBOOK AND OTHER STUDENT SUPPLIES:\nModern Real Estate Practice in Pennsylvania\, 14th Edition: $40 plus tax (non-refundable).\nEvery student must have a copy of the textbook\, which is used in both courses so it only needs to be purchased once. The textbook will be available to you on the first day of class. \n  \nREGISTRATION:\nSubmit full payment prior to the class start date to secure your seat by calling 717-843-7891 with credit card information or mail a check made payable to RAYAC to 901 Smile Way\, York. \nREGISTER NOW
URL:https://rayac.com/event/pre-licensing-real-estate-practice-62/
LOCATION:RAYAC\, 901 Smile Way\, York\, PA\, 17404\, United States
CATEGORIES:Education
END:VEVENT
BEGIN:VEVENT
DTSTART;TZID=America/Chicago:20251217T180000
DTEND;TZID=America/Chicago:20251217T213000
DTSTAMP:20260420T053615
CREATED:20250729T150834Z
LAST-MODIFIED:20250729T150834Z
UID:27969-1765994400-1766007000@rayac.com
SUMMARY:Pre-Licensing Real Estate Practice
DESCRIPTION:REAL ESTATE Practice (45 hours): \nConsecutive Mondays and Wednesdays from 6:00 PM – 9:30 PM & Saturdays from 9:00 AM – 3:00 PM \nDecember  1\,3\, 6\, 8\, 10\, 13\, 15\, 17\, 20\, 22\, 23 \nTUITION:\nReal Estate Fundamentals $340.00. \nTEXTBOOK AND OTHER STUDENT SUPPLIES:\nModern Real Estate Practice in Pennsylvania\, 14th Edition: $40 plus tax (non-refundable).\nEvery student must have a copy of the textbook\, which is used in both courses so it only needs to be purchased once. The textbook will be available to you on the first day of class. \n  \nREGISTRATION:\nSubmit full payment prior to the class start date to secure your seat by calling 717-843-7891 with credit card information or mail a check made payable to RAYAC to 901 Smile Way\, York. \nREGISTER NOW
URL:https://rayac.com/event/pre-licensing-real-estate-practice-63/
LOCATION:RAYAC\, 901 Smile Way\, York\, PA\, 17404\, United States
CATEGORIES:Education
END:VEVENT
BEGIN:VEVENT
DTSTART;TZID=America/Chicago:20251220T090000
DTEND;TZID=America/Chicago:20251220T150000
DTSTAMP:20260420T053615
CREATED:20250729T150919Z
LAST-MODIFIED:20250729T150919Z
UID:27971-1766221200-1766242800@rayac.com
SUMMARY:Pre-Licensing Real Estate Practice
DESCRIPTION:REAL ESTATE Practice (45 hours): \nConsecutive Mondays and Wednesdays from 6:00 PM – 9:30 PM & Saturdays from 9:00 AM – 3:00 PM \nDecember  1\,3\, 6\, 8\, 10\, 13\, 15\, 17\, 20\, 22\, 23 \nTUITION:\nReal Estate Fundamentals $340.00. \nTEXTBOOK AND OTHER STUDENT SUPPLIES:\nModern Real Estate Practice in Pennsylvania\, 14th Edition: $40 plus tax (non-refundable).\nEvery student must have a copy of the textbook\, which is used in both courses so it only needs to be purchased once. The textbook will be available to you on the first day of class. \n  \nREGISTRATION:\nSubmit full payment prior to the class start date to secure your seat by calling 717-843-7891 with credit card information or mail a check made payable to RAYAC to 901 Smile Way\, York. \nREGISTER NOW
URL:https://rayac.com/event/pre-licensing-real-estate-practice-64/
LOCATION:RAYAC\, 901 Smile Way\, York\, PA\, 17404\, United States
CATEGORIES:Education
END:VEVENT
BEGIN:VEVENT
DTSTART;TZID=America/Chicago:20251222T180000
DTEND;TZID=America/Chicago:20251222T213000
DTSTAMP:20260420T053615
CREATED:20250729T151000Z
LAST-MODIFIED:20250729T151000Z
UID:27973-1766426400-1766439000@rayac.com
SUMMARY:Pre-Licensing Real Estate Practice
DESCRIPTION:REAL ESTATE Practice (45 hours): \nConsecutive Mondays and Wednesdays from 6:00 PM – 9:30 PM & Saturdays from 9:00 AM – 3:00 PM \nDecember  1\,3\, 6\, 8\, 10\, 13\, 15\, 17\, 20\, 22\, 23 \nTUITION:\nReal Estate Fundamentals $340.00. \nTEXTBOOK AND OTHER STUDENT SUPPLIES:\nModern Real Estate Practice in Pennsylvania\, 14th Edition: $40 plus tax (non-refundable).\nEvery student must have a copy of the textbook\, which is used in both courses so it only needs to be purchased once. The textbook will be available to you on the first day of class. \n  \nREGISTRATION:\nSubmit full payment prior to the class start date to secure your seat by calling 717-843-7891 with credit card information or mail a check made payable to RAYAC to 901 Smile Way\, York. \nREGISTER NOW
URL:https://rayac.com/event/pre-licensing-real-estate-practice-65/
LOCATION:RAYAC\, 901 Smile Way\, York\, PA\, 17404\, United States
CATEGORIES:Education
END:VEVENT
BEGIN:VEVENT
DTSTART;TZID=America/Chicago:20251223T180000
DTEND;TZID=America/Chicago:20251223T213000
DTSTAMP:20260420T053615
CREATED:20250729T151113Z
LAST-MODIFIED:20250729T151113Z
UID:27975-1766512800-1766525400@rayac.com
SUMMARY:Pre-Licensing Real Estate Practice
DESCRIPTION:REAL ESTATE Practice (45 hours): \nConsecutive Mondays and Wednesdays from 6:00 PM – 9:30 PM & Saturdays from 9:00 AM – 3:00 PM \nDecember  1\,3\, 6\, 8\, 10\, 13\, 15\, 17\, 20\, 22\, 23 \nTUITION:\nReal Estate Fundamentals $340.00. \nTEXTBOOK AND OTHER STUDENT SUPPLIES:\nModern Real Estate Practice in Pennsylvania\, 14th Edition: $40 plus tax (non-refundable).\nEvery student must have a copy of the textbook\, which is used in both courses so it only needs to be purchased once. The textbook will be available to you on the first day of class. \n  \nREGISTRATION:\nSubmit full payment prior to the class start date to secure your seat by calling 717-843-7891 with credit card information or mail a check made payable to RAYAC to 901 Smile Way\, York. \nREGISTER NOW
URL:https://rayac.com/event/pre-licensing-real-estate-practice-88/
LOCATION:RAYAC\, 901 Smile Way\, York\, PA\, 17404\, United States
CATEGORIES:Education
END:VEVENT
END:VCALENDAR