BEGIN:VCALENDAR
VERSION:2.0
PRODID:-//Rayac - ECPv6.11.0.1//NONSGML v1.0//EN
CALSCALE:GREGORIAN
METHOD:PUBLISH
X-ORIGINAL-URL:https://rayac.com
X-WR-CALDESC:Events for Rayac
REFRESH-INTERVAL;VALUE=DURATION:PT1H
X-Robots-Tag:noindex
X-PUBLISHED-TTL:PT1H
BEGIN:VTIMEZONE
TZID:America/Chicago
BEGIN:DAYLIGHT
TZOFFSETFROM:-0600
TZOFFSETTO:-0500
TZNAME:CDT
DTSTART:20250309T080000
END:DAYLIGHT
BEGIN:STANDARD
TZOFFSETFROM:-0500
TZOFFSETTO:-0600
TZNAME:CST
DTSTART:20251102T070000
END:STANDARD
END:VTIMEZONE
BEGIN:VEVENT
DTSTART;TZID=America/Chicago:20250924T083000
DTEND;TZID=America/Chicago:20250924T160000
DTSTAMP:20260420T113631
CREATED:20250905T181102Z
LAST-MODIFIED:20250905T181102Z
UID:28154-1758702600-1758729600@rayac.com
SUMMARY:CE Class:  General Module
DESCRIPTION:Click here for more information
URL:https://rayac.com/event/ce-class-general-module/
LOCATION:RAYAC\, 901 Smile Way\, York\, PA\, 17404\, United States
CATEGORIES:Education
END:VEVENT
BEGIN:VEVENT
DTSTART;TZID=America/Chicago:20250924T180000
DTEND;TZID=America/Chicago:20250924T213000
DTSTAMP:20260420T113631
CREATED:20250729T151745Z
LAST-MODIFIED:20250729T151745Z
UID:27991-1758736800-1758749400@rayac.com
SUMMARY:Pre-Licensing Real Estate Fundamentals
DESCRIPTION:REAL ESTATE Fundamentals (30 hours): \nConsecutive Mondays and Wednesdays from 6:00 PM – 9:30 PM & Saturdays from 9:00 AM – 2:00 PM \nSeptember 8\, 10\, 13\, 15\, 17\, 20\, 22\, 24 \nTUITION:\nReal Estate Fundamentals $225.00. \nTEXTBOOK AND OTHER STUDENT SUPPLIES:\nModern Real Estate Practice in Pennsylvania\, 14th Edition: $40 plus tax (non-refundable).\nEvery student must have a copy of the textbook\, which is used in both courses so it only needs to be purchased once. The textbook will be available to you on the first day of class. \n  \nREGISTRATION:\nSubmit full payment prior to the class start date to secure your seat by calling 717-843-7891 with credit card information or mail a check made payable to RAYAC to 901 Smile Way\, York. \nREGISTER NOW
URL:https://rayac.com/event/pre-licensing-real-estate-fundamentals-31/
LOCATION:RAYAC\, 901 Smile Way\, York\, PA\, 17404\, United States
CATEGORIES:Education
END:VEVENT
END:VCALENDAR