BEGIN:VCALENDAR
VERSION:2.0
PRODID:-//Rayac - ECPv6.11.0.1//NONSGML v1.0//EN
CALSCALE:GREGORIAN
METHOD:PUBLISH
X-ORIGINAL-URL:https://rayac.com
X-WR-CALDESC:Events for Rayac
REFRESH-INTERVAL;VALUE=DURATION:PT1H
X-Robots-Tag:noindex
X-PUBLISHED-TTL:PT1H
BEGIN:VTIMEZONE
TZID:America/Chicago
BEGIN:DAYLIGHT
TZOFFSETFROM:-0600
TZOFFSETTO:-0500
TZNAME:CDT
DTSTART:20260308T080000
END:DAYLIGHT
BEGIN:STANDARD
TZOFFSETFROM:-0500
TZOFFSETTO:-0600
TZNAME:CST
DTSTART:20261101T070000
END:STANDARD
END:VTIMEZONE
BEGIN:VEVENT
DTSTART;TZID=America/Chicago:20260225T083000
DTEND;TZID=America/Chicago:20260225T120000
DTSTAMP:20260420T042605
CREATED:20251105T194132Z
LAST-MODIFIED:20251105T194132Z
UID:28300-1772008200-1772020800@rayac.com
SUMMARY:CE Class:  What Kind of Agent are You Anyway?
DESCRIPTION:Click here for more information
URL:https://rayac.com/event/ce-class-what-kind-of-agent-are-you-anyway-2/
LOCATION:Zoom
CATEGORIES:Education
END:VEVENT
BEGIN:VEVENT
DTSTART;TZID=America/Chicago:20260225T083000
DTEND;TZID=America/Chicago:20260225T120000
DTSTAMP:20260420T042605
CREATED:20260209T193319Z
LAST-MODIFIED:20260209T193319Z
UID:28498-1772008200-1772020800@rayac.com
SUMMARY:CE Class:  What Kind of Agent are You
DESCRIPTION:Click here for more information
URL:https://rayac.com/event/ce-class-what-kind-of-agent-are-you/
LOCATION:Zoom
CATEGORIES:Education
END:VEVENT
BEGIN:VEVENT
DTSTART;TZID=America/Chicago:20260225T130000
DTEND;TZID=America/Chicago:20260225T163000
DTSTAMP:20260420T042605
CREATED:20260209T193555Z
LAST-MODIFIED:20260209T193555Z
UID:28504-1772024400-1772037000@rayac.com
SUMMARY:CE Class:  Fair Housing Laws
DESCRIPTION:Click here for more information
URL:https://rayac.com/event/ce-class-fair-housing-laws/
LOCATION:Zoom
CATEGORIES:Education
END:VEVENT
END:VCALENDAR